BEGIN:VCALENDAR
VERSION:2.0
PRODID:-//Dorfgemeinschaft Wiesede - Upschört - ECPv6.15.20//NONSGML v1.0//EN
CALSCALE:GREGORIAN
METHOD:PUBLISH
X-ORIGINAL-URL:https://dorfgemeinschaft-wiesede.de
X-WR-CALDESC:Veranstaltungen für Dorfgemeinschaft Wiesede - Upschört
REFRESH-INTERVAL;VALUE=DURATION:PT1H
X-Robots-Tag:noindex
X-PUBLISHED-TTL:PT1H
BEGIN:VTIMEZONE
TZID:Europe/Berlin
BEGIN:DAYLIGHT
TZOFFSETFROM:+0100
TZOFFSETTO:+0200
TZNAME:CEST
DTSTART:20250330T010000
END:DAYLIGHT
BEGIN:STANDARD
TZOFFSETFROM:+0200
TZOFFSETTO:+0100
TZNAME:CET
DTSTART:20251026T010000
END:STANDARD
BEGIN:DAYLIGHT
TZOFFSETFROM:+0100
TZOFFSETTO:+0200
TZNAME:CEST
DTSTART:20260329T010000
END:DAYLIGHT
BEGIN:STANDARD
TZOFFSETFROM:+0200
TZOFFSETTO:+0100
TZNAME:CET
DTSTART:20261025T010000
END:STANDARD
BEGIN:DAYLIGHT
TZOFFSETFROM:+0100
TZOFFSETTO:+0200
TZNAME:CEST
DTSTART:20270328T010000
END:DAYLIGHT
BEGIN:STANDARD
TZOFFSETFROM:+0200
TZOFFSETTO:+0100
TZNAME:CET
DTSTART:20271031T010000
END:STANDARD
END:VTIMEZONE
BEGIN:VEVENT
DTSTART;TZID=Europe/Berlin:20260307T110000
DTEND;TZID=Europe/Berlin:20260307T133000
DTSTAMP:20260420T003254
CREATED:20260121T065748Z
LAST-MODIFIED:20260128T075903Z
UID:5283-1772881200-1772890200@dorfgemeinschaft-wiesede.de
SUMMARY:Abgroggen und Angrillen
DESCRIPTION:
URL:https://dorfgemeinschaft-wiesede.de/event/abgroggen-und-angrillen-2/
LOCATION:Sportplatz Wiesede\, Preefelderweg\, Wiesede
END:VEVENT
BEGIN:VEVENT
DTSTART;TZID=Europe/Berlin:20260314T100000
DTEND;TZID=Europe/Berlin:20260314T130000
DTSTAMP:20260420T003254
CREATED:20260209T100117Z
LAST-MODIFIED:20260209T100258Z
UID:5333-1773482400-1773493200@dorfgemeinschaft-wiesede.de
SUMMARY:Müllsammelaktion
DESCRIPTION:
URL:https://dorfgemeinschaft-wiesede.de/event/muellsammelaktion-2/
LOCATION:Feuerwehrhaus Wiesede\, Preefelder Weg 1\, Wiesede\, 26446
END:VEVENT
BEGIN:VEVENT
DTSTART;TZID=Europe/Berlin:20260317T200000
DTEND;TZID=Europe/Berlin:20260317T210000
DTSTAMP:20260420T003254
CREATED:20260107T082918Z
LAST-MODIFIED:20260107T082929Z
UID:5251-1773777600-1773781200@dorfgemeinschaft-wiesede.de
SUMMARY:Ideenaustausch & Vorstandssitzung
DESCRIPTION:Einmal im Monat trifft sich der Vorstand und bespricht aktuelle Themen und plant Veranstaltungen.\nDie Sitzungen sind öffentlich und Gäste sind immer herzlich willkommen!
URL:https://dorfgemeinschaft-wiesede.de/event/ideenaustausch-vorstandssitzung-2-2-2-2-2/
LOCATION:Kapelle in Wiesede\, Wieseder Dorfstraße 11\, Wiesede\, 26446
END:VEVENT
BEGIN:VEVENT
DTSTART;TZID=Europe/Berlin:20260320T153000
DTEND;TZID=Europe/Berlin:20260320T180000
DTSTAMP:20260420T003254
CREATED:20260218T194429Z
LAST-MODIFIED:20260218T194429Z
UID:5339-1774020600-1774029600@dorfgemeinschaft-wiesede.de
SUMMARY:Bastelaktion "Die Frühlingswerkstatt"
DESCRIPTION: 
URL:https://dorfgemeinschaft-wiesede.de/event/bastelaktion-die-fruehlingswerkstatt/
LOCATION:Multifunktionshaus Upschört\, Upschört
END:VEVENT
END:VCALENDAR