BEGIN:VCALENDAR
VERSION:2.0
PRODID:-//Dorfgemeinschaft Wiesede - Upschört - ECPv6.15.20//NONSGML v1.0//EN
CALSCALE:GREGORIAN
METHOD:PUBLISH
X-ORIGINAL-URL:https://dorfgemeinschaft-wiesede.de
X-WR-CALDESC:Veranstaltungen für Dorfgemeinschaft Wiesede - Upschört
REFRESH-INTERVAL;VALUE=DURATION:PT1H
X-Robots-Tag:noindex
X-PUBLISHED-TTL:PT1H
BEGIN:VTIMEZONE
TZID:Europe/Berlin
BEGIN:DAYLIGHT
TZOFFSETFROM:+0100
TZOFFSETTO:+0200
TZNAME:CEST
DTSTART:20240331T010000
END:DAYLIGHT
BEGIN:STANDARD
TZOFFSETFROM:+0200
TZOFFSETTO:+0100
TZNAME:CET
DTSTART:20241027T010000
END:STANDARD
BEGIN:DAYLIGHT
TZOFFSETFROM:+0100
TZOFFSETTO:+0200
TZNAME:CEST
DTSTART:20250330T010000
END:DAYLIGHT
BEGIN:STANDARD
TZOFFSETFROM:+0200
TZOFFSETTO:+0100
TZNAME:CET
DTSTART:20251026T010000
END:STANDARD
BEGIN:DAYLIGHT
TZOFFSETFROM:+0100
TZOFFSETTO:+0200
TZNAME:CEST
DTSTART:20260329T010000
END:DAYLIGHT
BEGIN:STANDARD
TZOFFSETFROM:+0200
TZOFFSETTO:+0100
TZNAME:CET
DTSTART:20261025T010000
END:STANDARD
END:VTIMEZONE
BEGIN:VEVENT
DTSTART;TZID=Europe/Berlin:20251107T173000
DTEND;TZID=Europe/Berlin:20251107T190000
DTSTAMP:20260420T070831
CREATED:20251016T111359Z
LAST-MODIFIED:20251016T111359Z
UID:5058-1762536600-1762542000@dorfgemeinschaft-wiesede.de
SUMMARY:Laternenumzug
DESCRIPTION:
URL:https://dorfgemeinschaft-wiesede.de/event/laternenumzug-2/
LOCATION:Feuerwehrhaus Wiesede\, Preefelder Weg 1\, Wiesede\, 26446
END:VEVENT
BEGIN:VEVENT
DTSTART;TZID=Europe/Berlin:20251118T200000
DTEND;TZID=Europe/Berlin:20251118T213000
DTSTAMP:20260420T070831
CREATED:20250112T102545Z
LAST-MODIFIED:20250112T102545Z
UID:4827-1763496000-1763501400@dorfgemeinschaft-wiesede.de
SUMMARY:Ideenaustausch & Vorstandssitzung
DESCRIPTION:Einmal im Monat trifft sich der Vorstand und bespricht aktuelle Themen und plant Veranstaltungen.\nDie Sitzungen sind öffentlich und Gäste sind immer herzlich willkommen!
URL:https://dorfgemeinschaft-wiesede.de/event/ideenaustausch-vorstandssitzung-2-2-3-2/
LOCATION:Kapelle in Wiesede\, Wieseder Dorfstraße 11\, Wiesede\, 26446
END:VEVENT
BEGIN:VEVENT
DTSTART;TZID=Europe/Berlin:20251120T190000
DTEND;TZID=Europe/Berlin:20251120T230000
DTSTAMP:20260420T070831
CREATED:20251027T091351Z
LAST-MODIFIED:20251027T091351Z
UID:5073-1763665200-1763679600@dorfgemeinschaft-wiesede.de
SUMMARY:Adventsfeier
DESCRIPTION:Screenshot
URL:https://dorfgemeinschaft-wiesede.de/event/adventsfeier/
LOCATION:Gaststätte Bender\, Haarweg 3\, Upschört\, 26446
END:VEVENT
END:VCALENDAR