BEGIN:VCALENDAR
VERSION:2.0
PRODID:-//Dorfgemeinschaft Wiesede - Upschört - ECPv6.15.20//NONSGML v1.0//EN
CALSCALE:GREGORIAN
METHOD:PUBLISH
X-ORIGINAL-URL:https://dorfgemeinschaft-wiesede.de
X-WR-CALDESC:Veranstaltungen für Dorfgemeinschaft Wiesede - Upschört
REFRESH-INTERVAL;VALUE=DURATION:PT1H
X-Robots-Tag:noindex
X-PUBLISHED-TTL:PT1H
BEGIN:VTIMEZONE
TZID:Europe/Berlin
BEGIN:DAYLIGHT
TZOFFSETFROM:+0100
TZOFFSETTO:+0200
TZNAME:CEST
DTSTART:20230326T010000
END:DAYLIGHT
BEGIN:STANDARD
TZOFFSETFROM:+0200
TZOFFSETTO:+0100
TZNAME:CET
DTSTART:20231029T010000
END:STANDARD
BEGIN:DAYLIGHT
TZOFFSETFROM:+0100
TZOFFSETTO:+0200
TZNAME:CEST
DTSTART:20240331T010000
END:DAYLIGHT
BEGIN:STANDARD
TZOFFSETFROM:+0200
TZOFFSETTO:+0100
TZNAME:CET
DTSTART:20241027T010000
END:STANDARD
BEGIN:DAYLIGHT
TZOFFSETFROM:+0100
TZOFFSETTO:+0200
TZNAME:CEST
DTSTART:20250330T010000
END:DAYLIGHT
BEGIN:STANDARD
TZOFFSETFROM:+0200
TZOFFSETTO:+0100
TZNAME:CET
DTSTART:20251026T010000
END:STANDARD
END:VTIMEZONE
BEGIN:VEVENT
DTSTART;TZID=Europe/Berlin:20241201T180000
DTEND;TZID=Europe/Berlin:20241201T223000
DTSTAMP:20260421T004712
CREATED:20230713T142540Z
LAST-MODIFIED:20241108T100106Z
UID:3516-1733076000-1733092200@dorfgemeinschaft-wiesede.de
SUMMARY:Weihnachtsfeier der Dorfgemeinschaft mit Weihnachtskonzert
DESCRIPTION:    \n„STÖRMWIND“ gibt Weihnachtskonzert im Gasthof Bender in Upschört \nPünktlich zum Beginn der Vorweihnachtszeit tritt am 1. Advent um 18.00 Uhr die bekannte Musikformation „STÖRMWIND“ im Gasthof Bender in Upschört auf. \nUnter dem Namen „ KEERSENTINKELN“ werden Hiltrud\, Tommi\, Karl-Heinz und Harm bemüht sein\,  den Gästen ein gefühlvolles\, in Erinnerung bleibendes Weihnachtskonzert zu präsentieren. \nOrganisiert wird dieser Auftritt von der Dorfgemeinschaft Wiesede-Upschört\, die hiermit zu ihrem Jahresabschlussfest einladen. Gäste sind herzlich willkommen. \nViele Menschen kennen „STÖRMWIND“ von Veranstaltungen\, wo die Schlagerwelt der letzten Jahrzehnte\, stimmungsvoll präsentiert wird. Umso mehr freuen sich die vier Akteure auf die wesentlich ruhigere Advent und Weihnachtszeit. Besucher vergangener Weihnachtskonzerte\, u.a. auch in vielen Kirchen \, haben immer wieder bestätigt dass Weihnacht in den Herzen eingekehrt sei. Stimmungsvolle Melodien zum Mitsingen\, oder zum Zuhören werden mit Geschichten und Gedichten\, meist in plattdeutscher Sprache\, abgerundet. Angepasst zu den Melodien werden Solostimmen\, Duette oder vierstimmig als Quartett vereint\, den Saal bei Bender zum Klingen bringen. \n\nDa dieses Konzert das einzig Öffentliche in der Region ist\, sollten Interessierte sich schnell Entscheiden\, Karten zu besorgen. (Info:www.stoermwind.de =Termine) \nDiese können bei der Dorfgemeinschaft Wiesede – Upschört  \nIngo Friedrichs Tel.01573 1701658 \, sowie bei \nElke Hildebrand Tel.0157 87177201 und bei \nSTÖRMWIND = 04975/8741  \nfür 15.- Euro erworben werden. Für Mitglieder der Dorfgemeinschaft beträgt der Eintrittspreis 10€. \nDer Preis beinhaltet Tee und Kuchen. \nDas Gasthaus Bender \, die Dorfgemeinschaft Wiesede-Upschört \,als auch STÖRMWIND freuen sich auf viele Gäste. \n 
URL:https://dorfgemeinschaft-wiesede.de/event/weihnachtsfeier-der-dorfgemeinschaft/
LOCATION:Gaststätte Bender\, Haarweg 3\, Upschört\, 26446
END:VEVENT
BEGIN:VEVENT
DTSTART;TZID=Europe/Berlin:20241208T150000
DTEND;TZID=Europe/Berlin:20241208T180000
DTSTAMP:20260421T004712
CREATED:20230517T143212Z
LAST-MODIFIED:20241122T102408Z
UID:3234-1733670000-1733680800@dorfgemeinschaft-wiesede.de
SUMMARY:Adventsmarkt
DESCRIPTION:Adventsmarkt\nIn Wiesede auf dem Schulgelände\nWir beginnen um 14 Uhr in der Schule mit einem Gottesdienst (im Feuerwehrhaus)\nEs gibt Tee\, Kaffee und selbst gebackenen Kuchen\, heiße und kalte Getränke sowie Bratwurst und Pommes\, einige Verkaufsstände und eine Waffelbäckerei! \nIn unserer Tombola gibt es viele schöne Preise zu gewinnen! \nDer Weihnachtsmann kommt um ca 16 Uhr in einer Kutsche. Für alle Kinder gibt es eine kleine Überraschung. \nWer Haundarbeitssachen\, Spielzeug\, Weihnachtsartikel o.ä. anbieten möchte\, kann seinen Verkaufsstand gerne aufbauen.\nEine Standgebühr wird nicht erhoben. \nWer etwas für die Tombola stiften möchte (dies können auch selbst gebackene Kekse oder Neujahrskuchen sein)\, wendet sich bitte an:\nElke Hildebrandt 04948/912929 oder Gesa Beneken 04948/992869 \nEs laden ein: \nDie örtlichen Vereine aus Wiesede und Upschört\, die Kirchengemeinde\, sowie der Förderverein der Grundschule Friedeburg \n \n 
URL:https://dorfgemeinschaft-wiesede.de/event/adventsmarkt/
LOCATION:Schule Wiesede
END:VEVENT
BEGIN:VEVENT
DTSTART;TZID=Europe/Berlin:20241227T150000
DTEND;TZID=Europe/Berlin:20241227T170000
DTSTAMP:20260421T004712
CREATED:20241122T102829Z
LAST-MODIFIED:20241219T073628Z
UID:4719-1735311600-1735318800@dorfgemeinschaft-wiesede.de
SUMMARY:Waldweihnacht im Eichenwald
DESCRIPTION:Alle Kinder freuen sich zur Weihnachtszeit über einen bunten Weihnachtsbaum\,\nvielleicht auch mit leckeren Schokoladenringen geschmückt.\nAber wir sollten auch an unsere Tierwelt denken und den Wald mit Futter für die Tiere ausschmücken. \nHierzu lädt die Dorfgemeinschaft am Freitag\, dem 27. Dezember um 15: 00 Uhr im Wysder Holt am Preefelder Weg in Wiesede ein. \nWir wollen Vogelfutter auslegen und Meisenkugeln aufhängen. Äpfel\, Nüsse und vielleicht auch wärmendes Heu verteilen.\nEs werden auch Futterspender gebastelt und im Wald verteilt. \nWer etwas mitbringen möchte\, sollte darauf achten\, dass kein Plastik verarbeitet wurde. \nAltersgruppe: ca. 4 bis 10 Jahre\, gerne auch in Begleitung der Eltern. \nTreff ist am 27.12.24 um 15.00 Uhr beim Eichenwald „Wysder Holt“ im Preefelder Weg. \nAnmeldungen bei Elke Hildebrandt  unter  04948 / 912948\, 0157 87177201
URL:https://dorfgemeinschaft-wiesede.de/event/waldweihnacht-im-eichenwald/
LOCATION:Wysder Holt\, Preefelder Weg\, Wiesede
END:VEVENT
END:VCALENDAR