BEGIN:VCALENDAR
VERSION:2.0
PRODID:-//Dorfgemeinschaft Wiesede - Upschört - ECPv6.15.20//NONSGML v1.0//EN
CALSCALE:GREGORIAN
METHOD:PUBLISH
X-WR-CALNAME:Dorfgemeinschaft Wiesede - Upschört
X-ORIGINAL-URL:https://dorfgemeinschaft-wiesede.de
X-WR-CALDESC:Veranstaltungen für Dorfgemeinschaft Wiesede - Upschört
REFRESH-INTERVAL;VALUE=DURATION:PT1H
X-Robots-Tag:noindex
X-PUBLISHED-TTL:PT1H
BEGIN:VTIMEZONE
TZID:Europe/Berlin
BEGIN:DAYLIGHT
TZOFFSETFROM:+0100
TZOFFSETTO:+0200
TZNAME:CEST
DTSTART:20230326T010000
END:DAYLIGHT
BEGIN:STANDARD
TZOFFSETFROM:+0200
TZOFFSETTO:+0100
TZNAME:CET
DTSTART:20231029T010000
END:STANDARD
BEGIN:DAYLIGHT
TZOFFSETFROM:+0100
TZOFFSETTO:+0200
TZNAME:CEST
DTSTART:20240331T010000
END:DAYLIGHT
BEGIN:STANDARD
TZOFFSETFROM:+0200
TZOFFSETTO:+0100
TZNAME:CET
DTSTART:20241027T010000
END:STANDARD
BEGIN:DAYLIGHT
TZOFFSETFROM:+0100
TZOFFSETTO:+0200
TZNAME:CEST
DTSTART:20250330T010000
END:DAYLIGHT
BEGIN:STANDARD
TZOFFSETFROM:+0200
TZOFFSETTO:+0100
TZNAME:CET
DTSTART:20251026T010000
END:STANDARD
END:VTIMEZONE
BEGIN:VEVENT
DTSTART;TZID=Europe/Berlin:20240416T200000
DTEND;TZID=Europe/Berlin:20240416T220000
DTSTAMP:20260425T123442
CREATED:20230713T151841Z
LAST-MODIFIED:20240118T104533Z
UID:3557-1713297600-1713304800@dorfgemeinschaft-wiesede.de
SUMMARY:Ideenaustausch & Vorstandssitzung
DESCRIPTION:Einmal im Monat trifft sich der Vorstand und bespricht aktuelle Themen und plant Veranstaltungen.\nDie Sitzungen sind öffentlich und Gäste sind immer herzlich willkommen!
URL:https://dorfgemeinschaft-wiesede.de/event/vorstandssitzung-3-2/
LOCATION:Kapelle in Wiesede\, Wieseder Dorfstraße 11\, Wiesede\, 26446
END:VEVENT
BEGIN:VEVENT
DTSTART;TZID=Europe/Berlin:20240419T180000
DTEND;TZID=Europe/Berlin:20240421T180000
DTSTAMP:20260425T123442
CREATED:20240226T081025Z
LAST-MODIFIED:20240226T081025Z
UID:4347-1713549600-1713722400@dorfgemeinschaft-wiesede.de
SUMMARY:90-jähriges Jubiläum der Feuerwehr Marx\, Wiesede und Etzel
DESCRIPTION:
URL:https://dorfgemeinschaft-wiesede.de/event/90-jaehriges-jubilaeum-der-feuerwehr-marx-wiesede-und-etzel/
LOCATION:Schützenplatz Friedeburg
END:VEVENT
BEGIN:VEVENT
DTSTART;VALUE=DATE:20240425
DTEND;VALUE=DATE:20240426
DTSTAMP:20260425T123442
CREATED:20240117T164953Z
LAST-MODIFIED:20240117T164953Z
UID:4258-1714003200-1714089599@dorfgemeinschaft-wiesede.de
SUMMARY:Baum des Jahres
DESCRIPTION:Die Mehlbeere ist der Baum des Jahres 2024! \nWeitere Information folgen…
URL:https://dorfgemeinschaft-wiesede.de/event/baum-des-jahres/
LOCATION:Baum des Jahres Park
END:VEVENT
END:VCALENDAR