BEGIN:VCALENDAR
VERSION:2.0
PRODID:-//Dorfgemeinschaft Wiesede - Upschört - ECPv6.15.20//NONSGML v1.0//EN
CALSCALE:GREGORIAN
METHOD:PUBLISH
X-ORIGINAL-URL:https://dorfgemeinschaft-wiesede.de
X-WR-CALDESC:Veranstaltungen für Dorfgemeinschaft Wiesede - Upschört
REFRESH-INTERVAL;VALUE=DURATION:PT1H
X-Robots-Tag:noindex
X-PUBLISHED-TTL:PT1H
BEGIN:VTIMEZONE
TZID:Europe/Berlin
BEGIN:DAYLIGHT
TZOFFSETFROM:+0100
TZOFFSETTO:+0200
TZNAME:CEST
DTSTART:20230326T010000
END:DAYLIGHT
BEGIN:STANDARD
TZOFFSETFROM:+0200
TZOFFSETTO:+0100
TZNAME:CET
DTSTART:20231029T010000
END:STANDARD
BEGIN:DAYLIGHT
TZOFFSETFROM:+0100
TZOFFSETTO:+0200
TZNAME:CEST
DTSTART:20240331T010000
END:DAYLIGHT
BEGIN:STANDARD
TZOFFSETFROM:+0200
TZOFFSETTO:+0100
TZNAME:CET
DTSTART:20241027T010000
END:STANDARD
BEGIN:DAYLIGHT
TZOFFSETFROM:+0100
TZOFFSETTO:+0200
TZNAME:CEST
DTSTART:20250330T010000
END:DAYLIGHT
BEGIN:STANDARD
TZOFFSETFROM:+0200
TZOFFSETTO:+0100
TZNAME:CET
DTSTART:20251026T010000
END:STANDARD
END:VTIMEZONE
BEGIN:VEVENT
DTSTART;TZID=Europe/Berlin:20240104T150000
DTEND;TZID=Europe/Berlin:20240104T170000
DTSTAMP:20260425T180439
CREATED:20230719T100625Z
LAST-MODIFIED:20240103T170659Z
UID:3607-1704380400-1704387600@dorfgemeinschaft-wiesede.de
SUMMARY:Waldweihnacht im Wysder Holt
DESCRIPTION:Durch die schlechte Wetterlage muss die Waldweihnacht leider abgesagt werden! \nAlle Kinder freuen sich zur Weihnachtszeit über einen bunten Weihnachtsbaum\,\nvielleicht auch mit leckeren Schokoladenringen geschmückt.\nAber wir sollten auch an unsere Tierwelt denken und den Wald mit Futter für die Tiere ausschmücken. \nHierzu lädt die Dorfgemeinschaft am Freitag\, dem 29. Dezember um 15: 00 Uhr im Wysder Holt am Preefelder Weg in Wiesede ein. \nWir wollen Vogelfutter auslegen und Meisenkugeln aufhängen. Äpfel\, Nüsse und vielleicht auch wärmendes Heu verteilen.\nEs werden auch Futterspender gebastelt und im Wald verteilt. \nWer etwas mitbringen möchte\, sollte darauf achten\, dass kein Plastik verarbeitet wurde. \nAltersgruppe: ca. 4 bis 10 Jahre\, gerne auch in Begleitung der Eltern. \nTreff ist am 29.12.2023 um 15.00 Uhr beim Eichenwald „Wysder Holt“ im Preefelder Weg. \nAnmeldungen bei Elke Hildebrandt  unter  04948 / 912948
URL:https://dorfgemeinschaft-wiesede.de/event/waldweihnacht-im-wysder-holt/
LOCATION:Wysder Holt\, Preefelder Weg\, Wiesede
END:VEVENT
END:VCALENDAR