BEGIN:VCALENDAR
VERSION:2.0
PRODID:-//Dorfgemeinschaft Wiesede - Upschört - ECPv6.15.20//NONSGML v1.0//EN
CALSCALE:GREGORIAN
METHOD:PUBLISH
X-ORIGINAL-URL:https://dorfgemeinschaft-wiesede.de
X-WR-CALDESC:Veranstaltungen für Dorfgemeinschaft Wiesede - Upschört
REFRESH-INTERVAL;VALUE=DURATION:PT1H
X-Robots-Tag:noindex
X-PUBLISHED-TTL:PT1H
BEGIN:VTIMEZONE
TZID:Europe/Berlin
BEGIN:DAYLIGHT
TZOFFSETFROM:+0100
TZOFFSETTO:+0200
TZNAME:CEST
DTSTART:20220327T010000
END:DAYLIGHT
BEGIN:STANDARD
TZOFFSETFROM:+0200
TZOFFSETTO:+0100
TZNAME:CET
DTSTART:20221030T010000
END:STANDARD
BEGIN:DAYLIGHT
TZOFFSETFROM:+0100
TZOFFSETTO:+0200
TZNAME:CEST
DTSTART:20230326T010000
END:DAYLIGHT
BEGIN:STANDARD
TZOFFSETFROM:+0200
TZOFFSETTO:+0100
TZNAME:CET
DTSTART:20231029T010000
END:STANDARD
BEGIN:DAYLIGHT
TZOFFSETFROM:+0100
TZOFFSETTO:+0200
TZNAME:CEST
DTSTART:20240331T010000
END:DAYLIGHT
BEGIN:STANDARD
TZOFFSETFROM:+0200
TZOFFSETTO:+0100
TZNAME:CET
DTSTART:20241027T010000
END:STANDARD
END:VTIMEZONE
BEGIN:VEVENT
DTSTART;TZID=Europe/Berlin:20231202T150000
DTEND;TZID=Europe/Berlin:20231202T170000
DTSTAMP:20260425T194237
CREATED:20231019T174320Z
LAST-MODIFIED:20231019T180814Z
UID:4031-1701529200-1701536400@dorfgemeinschaft-wiesede.de
SUMMARY:Schmücken des Großen Tannenbaums aufm Dorfplatz
DESCRIPTION:Pünktlich zum ersten Advent wollten wir den großen Tannenbaum auf dem Dorfplatz in Wiesede schmücken. \nDafür haben die Kinder viel Schmuck gebastelt. \nJeder der mit uns bei einem Glühwein oder Kinderpunsch in die Adventszeit starten möchte\, ist herzlich willkommen. \nGeschmückt wird um 15 Uhr!
URL:https://dorfgemeinschaft-wiesede.de/event/schmuecken-des-grossen-tannenbaums-aufm-dorfplatz/
LOCATION:Privat: Dorfplatz Wiesede
END:VEVENT
BEGIN:VEVENT
DTSTART;TZID=Europe/Berlin:20231216T150000
DTEND;TZID=Europe/Berlin:20231216T200000
DTSTAMP:20260425T194237
CREATED:20231212T120210Z
LAST-MODIFIED:20231212T120210Z
UID:4192-1702738800-1702756800@dorfgemeinschaft-wiesede.de
SUMMARY:Upschörter Weihnachtszauber
DESCRIPTION:
URL:https://dorfgemeinschaft-wiesede.de/event/upschoerter-weihnachtszauber/
LOCATION:Multifunktionshaus Upschört\, Upschört
END:VEVENT
BEGIN:VEVENT
DTSTART;TZID=Europe/Berlin:20231217T190000
DTEND;TZID=Europe/Berlin:20231217T230000
DTSTAMP:20260425T194237
CREATED:20231127T130953Z
LAST-MODIFIED:20231127T130953Z
UID:4130-1702839600-1702854000@dorfgemeinschaft-wiesede.de
SUMMARY:"Vier Takte vor Weihnachten"
DESCRIPTION:
URL:https://dorfgemeinschaft-wiesede.de/event/vier-takte-vor-weihnachten/
LOCATION:St.-Martinus-Kirche\, Etzel
END:VEVENT
END:VCALENDAR