BEGIN:VCALENDAR
VERSION:2.0
PRODID:-//Dorfgemeinschaft Wiesede - Upschört - ECPv6.15.20//NONSGML v1.0//EN
CALSCALE:GREGORIAN
METHOD:PUBLISH
X-ORIGINAL-URL:https://dorfgemeinschaft-wiesede.de
X-WR-CALDESC:Veranstaltungen für Dorfgemeinschaft Wiesede - Upschört
REFRESH-INTERVAL;VALUE=DURATION:PT1H
X-Robots-Tag:noindex
X-PUBLISHED-TTL:PT1H
BEGIN:VTIMEZONE
TZID:Europe/Berlin
BEGIN:DAYLIGHT
TZOFFSETFROM:+0100
TZOFFSETTO:+0200
TZNAME:CEST
DTSTART:20220327T010000
END:DAYLIGHT
BEGIN:STANDARD
TZOFFSETFROM:+0200
TZOFFSETTO:+0100
TZNAME:CET
DTSTART:20221030T010000
END:STANDARD
BEGIN:DAYLIGHT
TZOFFSETFROM:+0100
TZOFFSETTO:+0200
TZNAME:CEST
DTSTART:20230326T010000
END:DAYLIGHT
BEGIN:STANDARD
TZOFFSETFROM:+0200
TZOFFSETTO:+0100
TZNAME:CET
DTSTART:20231029T010000
END:STANDARD
BEGIN:DAYLIGHT
TZOFFSETFROM:+0100
TZOFFSETTO:+0200
TZNAME:CEST
DTSTART:20240331T010000
END:DAYLIGHT
BEGIN:STANDARD
TZOFFSETFROM:+0200
TZOFFSETTO:+0100
TZNAME:CET
DTSTART:20241027T010000
END:STANDARD
END:VTIMEZONE
BEGIN:VEVENT
DTSTART;TZID=Europe/Berlin:20230922T193000
DTEND;TZID=Europe/Berlin:20230922T193000
DTSTAMP:20260426T005037
CREATED:20230717T063714Z
LAST-MODIFIED:20230919T140411Z
UID:3575-1695411000-1695411000@dorfgemeinschaft-wiesede.de
SUMMARY:ABGESAGT - Dreebladd und SingSpill
DESCRIPTION:Leider muss das Konzert aus gesundheitlichen Gründen abgesagt werden. Erworbene Karten werden natürlich erstattet. 
URL:https://dorfgemeinschaft-wiesede.de/event/dreebladd-und-chor-norder-sing/
LOCATION:Kapelle in Wiesede\, Wieseder Dorfstraße 11\, Wiesede\, 26446
END:VEVENT
BEGIN:VEVENT
DTSTART;VALUE=DATE:20230923
DTEND;VALUE=DATE:20230925
DTSTAMP:20260426T005037
CREATED:20230713T144604Z
LAST-MODIFIED:20230825T095403Z
UID:3537-1695427200-1695599999@dorfgemeinschaft-wiesede.de
SUMMARY:Spätsommer-Vergnügen
DESCRIPTION:Am Sonntag \, den 24.9.2023\, findet Ihr die Dorfgemeinschaft Wiesede – Upschört im JUZ in Friedeburg. \nDort gibt es leckeren\, selbst gebackenen Kuchen. \nSchaut gerne mal auf eine Tasse Kaffee oder Tee vorbei. \nWeitere Informationen zu der Veranstaltung findet Ihr hier. \n 
URL:https://dorfgemeinschaft-wiesede.de/event/spaetsommer-vergnuegen/
LOCATION:Friedeburg JUZ
END:VEVENT
END:VCALENDAR