BEGIN:VCALENDAR
VERSION:2.0
PRODID:-//Dorfgemeinschaft Wiesede - Upschört - ECPv6.15.20//NONSGML v1.0//EN
CALSCALE:GREGORIAN
METHOD:PUBLISH
X-ORIGINAL-URL:https://dorfgemeinschaft-wiesede.de
X-WR-CALDESC:Veranstaltungen für Dorfgemeinschaft Wiesede - Upschört
REFRESH-INTERVAL;VALUE=DURATION:PT1H
X-Robots-Tag:noindex
X-PUBLISHED-TTL:PT1H
BEGIN:VTIMEZONE
TZID:Europe/Berlin
BEGIN:DAYLIGHT
TZOFFSETFROM:+0100
TZOFFSETTO:+0200
TZNAME:CEST
DTSTART:20250330T010000
END:DAYLIGHT
BEGIN:STANDARD
TZOFFSETFROM:+0200
TZOFFSETTO:+0100
TZNAME:CET
DTSTART:20251026T010000
END:STANDARD
BEGIN:DAYLIGHT
TZOFFSETFROM:+0100
TZOFFSETTO:+0200
TZNAME:CEST
DTSTART:20260329T010000
END:DAYLIGHT
BEGIN:STANDARD
TZOFFSETFROM:+0200
TZOFFSETTO:+0100
TZNAME:CET
DTSTART:20261025T010000
END:STANDARD
BEGIN:DAYLIGHT
TZOFFSETFROM:+0100
TZOFFSETTO:+0200
TZNAME:CEST
DTSTART:20270328T010000
END:DAYLIGHT
BEGIN:STANDARD
TZOFFSETFROM:+0200
TZOFFSETTO:+0100
TZNAME:CET
DTSTART:20271031T010000
END:STANDARD
BEGIN:DAYLIGHT
TZOFFSETFROM:+0100
TZOFFSETTO:+0200
TZNAME:CEST
DTSTART:20280326T010000
END:DAYLIGHT
BEGIN:STANDARD
TZOFFSETFROM:+0200
TZOFFSETTO:+0100
TZNAME:CET
DTSTART:20281029T010000
END:STANDARD
END:VTIMEZONE
BEGIN:VEVENT
DTSTART;TZID=Europe/Berlin:20260421T200000
DTEND;TZID=Europe/Berlin:20260421T210000
DTSTAMP:20260419T225501
CREATED:20260107T083057Z
LAST-MODIFIED:20260107T083057Z
UID:5252-1776801600-1776805200@dorfgemeinschaft-wiesede.de
SUMMARY:Ideenaustausch & Vorstandssitzung
DESCRIPTION:Einmal im Monat trifft sich der Vorstand und bespricht aktuelle Themen und plant Veranstaltungen.\nDie Sitzungen sind öffentlich und Gäste sind immer herzlich willkommen!
URL:https://dorfgemeinschaft-wiesede.de/event/ideenaustausch-vorstandssitzung-2-2-2-2-3/
LOCATION:Kapelle in Wiesede\, Wieseder Dorfstraße 11\, Wiesede\, 26446
END:VEVENT
BEGIN:VEVENT
DTSTART;TZID=Europe/Berlin:20260519T200000
DTEND;TZID=Europe/Berlin:20260519T210000
DTSTAMP:20260419T225501
CREATED:20260107T083248Z
LAST-MODIFIED:20260107T083248Z
UID:5254-1779220800-1779224400@dorfgemeinschaft-wiesede.de
SUMMARY:Ideenaustausch & Vorstandssitzung
DESCRIPTION:Einmal im Monat trifft sich der Vorstand und bespricht aktuelle Themen und plant Veranstaltungen.\nDie Sitzungen sind öffentlich und Gäste sind immer herzlich willkommen!
URL:https://dorfgemeinschaft-wiesede.de/event/ideenaustausch-vorstandssitzung-2-2-2-2-5/
LOCATION:Kapelle in Wiesede\, Wieseder Dorfstraße 11\, Wiesede\, 26446
END:VEVENT
BEGIN:VEVENT
DTSTART;TZID=Europe/Berlin:20260531T100000
DTEND;TZID=Europe/Berlin:20260531T170000
DTSTAMP:20260419T225501
CREATED:20260301T134523Z
LAST-MODIFIED:20260301T134523Z
UID:5362-1780221600-1780246800@dorfgemeinschaft-wiesede.de
SUMMARY:Frühlingsspaziergang zum Ehrenamtstag
DESCRIPTION:
URL:https://dorfgemeinschaft-wiesede.de/event/fruehlingsspaziergang-zum-ehrenamtstag/
LOCATION:Schule Wiesede
END:VEVENT
BEGIN:VEVENT
DTSTART;TZID=Europe/Berlin:20260616T200000
DTEND;TZID=Europe/Berlin:20260616T210000
DTSTAMP:20260419T225501
CREATED:20260107T083357Z
LAST-MODIFIED:20260107T083357Z
UID:5255-1781640000-1781643600@dorfgemeinschaft-wiesede.de
SUMMARY:Ideenaustausch & Vorstandssitzung
DESCRIPTION:Einmal im Monat trifft sich der Vorstand und bespricht aktuelle Themen und plant Veranstaltungen.\nDie Sitzungen sind öffentlich und Gäste sind immer herzlich willkommen!
URL:https://dorfgemeinschaft-wiesede.de/event/ideenaustausch-vorstandssitzung-2-2-2-2-6/
LOCATION:Kapelle in Wiesede\, Wieseder Dorfstraße 11\, Wiesede\, 26446
END:VEVENT
BEGIN:VEVENT
DTSTART;TZID=Europe/Berlin:20260628T100000
DTEND;TZID=Europe/Berlin:20260628T170000
DTSTAMP:20260419T225501
CREATED:20260218T195217Z
LAST-MODIFIED:20260218T195217Z
UID:5344-1782640800-1782666000@dorfgemeinschaft-wiesede.de
SUMMARY:Tag der offenen Tür beim Sportverein Wiesede
DESCRIPTION:Infos folgen…
URL:https://dorfgemeinschaft-wiesede.de/event/tag-der-offenen-tuer-beim-sportverein-wiesede/
LOCATION:Turnhalle Schule Wiesede
END:VEVENT
BEGIN:VEVENT
DTSTART;TZID=Europe/Berlin:20260703T190000
DTEND;TZID=Europe/Berlin:20260705T190000
DTSTAMP:20260419T225501
CREATED:20260218T194805Z
LAST-MODIFIED:20260218T194805Z
UID:5342-1783105200-1783278000@dorfgemeinschaft-wiesede.de
SUMMARY:Schützenfest
DESCRIPTION:Infos folgen…
URL:https://dorfgemeinschaft-wiesede.de/event/schuetzenfest/
LOCATION:Schützenplatz Friedeburg
END:VEVENT
BEGIN:VEVENT
DTSTART;TZID=Europe/Berlin:20260808T160000
DTEND;TZID=Europe/Berlin:20260808T200000
DTSTAMP:20260419T225501
CREATED:20260121T065904Z
LAST-MODIFIED:20260121T070143Z
UID:5285-1786204800-1786219200@dorfgemeinschaft-wiesede.de
SUMMARY:Dorfpicknick
DESCRIPTION:Infos folgen…
URL:https://dorfgemeinschaft-wiesede.de/event/helferfest-2/
LOCATION:Schule Wiesede
END:VEVENT
BEGIN:VEVENT
DTSTART;TZID=Europe/Berlin:20260818T200000
DTEND;TZID=Europe/Berlin:20260818T210000
DTSTAMP:20260419T225501
CREATED:20260107T083446Z
LAST-MODIFIED:20260107T083446Z
UID:5256-1787083200-1787086800@dorfgemeinschaft-wiesede.de
SUMMARY:Ideenaustausch & Vorstandssitzung
DESCRIPTION:Einmal im Monat trifft sich der Vorstand und bespricht aktuelle Themen und plant Veranstaltungen.\nDie Sitzungen sind öffentlich und Gäste sind immer herzlich willkommen!
URL:https://dorfgemeinschaft-wiesede.de/event/ideenaustausch-vorstandssitzung-2-2-2-2-7/
LOCATION:Kapelle in Wiesede\, Wieseder Dorfstraße 11\, Wiesede\, 26446
END:VEVENT
BEGIN:VEVENT
DTSTART;TZID=Europe/Berlin:20260828T180000
DTEND;TZID=Europe/Berlin:20260828T233000
DTSTAMP:20260419T225501
CREATED:20260121T070116Z
LAST-MODIFIED:20260121T070116Z
UID:5288-1787940000-1787959800@dorfgemeinschaft-wiesede.de
SUMMARY:Helferfest
DESCRIPTION:Infos folgen…
URL:https://dorfgemeinschaft-wiesede.de/event/helferfest-3/
LOCATION:Wiesede
END:VEVENT
BEGIN:VEVENT
DTSTART;TZID=Europe/Berlin:20260915T200000
DTEND;TZID=Europe/Berlin:20260915T210000
DTSTAMP:20260419T225501
CREATED:20260107T083742Z
LAST-MODIFIED:20260107T083742Z
UID:5258-1789502400-1789506000@dorfgemeinschaft-wiesede.de
SUMMARY:Ideenaustausch & Vorstandssitzung
DESCRIPTION:Einmal im Monat trifft sich der Vorstand und bespricht aktuelle Themen und plant Veranstaltungen.\nDie Sitzungen sind öffentlich und Gäste sind immer herzlich willkommen!
URL:https://dorfgemeinschaft-wiesede.de/event/ideenaustausch-vorstandssitzung-2-2-2-2-10/
LOCATION:Kapelle in Wiesede\, Wieseder Dorfstraße 11\, Wiesede\, 26446
END:VEVENT
BEGIN:VEVENT
DTSTART;TZID=Europe/Berlin:20261020T200000
DTEND;TZID=Europe/Berlin:20261020T210000
DTSTAMP:20260419T225501
CREATED:20260107T083630Z
LAST-MODIFIED:20260107T083641Z
UID:5259-1792526400-1792530000@dorfgemeinschaft-wiesede.de
SUMMARY:Ideenaustausch & Vorstandssitzung
DESCRIPTION:Einmal im Monat trifft sich der Vorstand und bespricht aktuelle Themen und plant Veranstaltungen.\nDie Sitzungen sind öffentlich und Gäste sind immer herzlich willkommen!
URL:https://dorfgemeinschaft-wiesede.de/event/ideenaustausch-vorstandssitzung-2-2-2-2-9/
LOCATION:Kapelle in Wiesede\, Wieseder Dorfstraße 11\, Wiesede\, 26446
END:VEVENT
BEGIN:VEVENT
DTSTART;TZID=Europe/Berlin:20261117T200000
DTEND;TZID=Europe/Berlin:20261117T210000
DTSTAMP:20260419T225501
CREATED:20260107T083537Z
LAST-MODIFIED:20260107T083537Z
UID:5260-1794945600-1794949200@dorfgemeinschaft-wiesede.de
SUMMARY:Ideenaustausch & Vorstandssitzung
DESCRIPTION:Einmal im Monat trifft sich der Vorstand und bespricht aktuelle Themen und plant Veranstaltungen.\nDie Sitzungen sind öffentlich und Gäste sind immer herzlich willkommen!
URL:https://dorfgemeinschaft-wiesede.de/event/ideenaustausch-vorstandssitzung-2-2-2-2-8/
LOCATION:Kapelle in Wiesede\, Wieseder Dorfstraße 11\, Wiesede\, 26446
END:VEVENT
BEGIN:VEVENT
DTSTART;TZID=Europe/Berlin:20261125T190000
DTEND;TZID=Europe/Berlin:20261125T230000
DTSTAMP:20260419T225501
CREATED:20260121T070301Z
LAST-MODIFIED:20260121T070301Z
UID:5290-1795633200-1795647600@dorfgemeinschaft-wiesede.de
SUMMARY:Weihnachtsfeier der Dorfgemeinschaft
DESCRIPTION:Infos folgen…
URL:https://dorfgemeinschaft-wiesede.de/event/weihnachtsfeier-der-dorfgemeinschaft-2/
LOCATION:Gaststätte Bender\, Haarweg 3\, Upschört\, 26446
END:VEVENT
BEGIN:VEVENT
DTSTART;TZID=Europe/Berlin:20261206T140000
DTEND;TZID=Europe/Berlin:20261206T180000
DTSTAMP:20260419T225502
CREATED:20260121T070407Z
LAST-MODIFIED:20260121T070407Z
UID:5292-1796565600-1796580000@dorfgemeinschaft-wiesede.de
SUMMARY:Adventsmarkt
DESCRIPTION:Infos folgen…
URL:https://dorfgemeinschaft-wiesede.de/event/adventsmarkt-3/
LOCATION:Schule Wiesede
END:VEVENT
BEGIN:VEVENT
DTSTART;TZID=Europe/Berlin:20261215T200000
DTEND;TZID=Europe/Berlin:20261215T210000
DTSTAMP:20260419T225502
CREATED:20260107T083835Z
LAST-MODIFIED:20260107T083835Z
UID:5257-1797364800-1797368400@dorfgemeinschaft-wiesede.de
SUMMARY:Ideenaustausch & Vorstandssitzung
DESCRIPTION:Einmal im Monat trifft sich der Vorstand und bespricht aktuelle Themen und plant Veranstaltungen.\nDie Sitzungen sind öffentlich und Gäste sind immer herzlich willkommen!
URL:https://dorfgemeinschaft-wiesede.de/event/ideenaustausch-vorstandssitzung-2-2-2-2-11/
LOCATION:Kapelle in Wiesede\, Wieseder Dorfstraße 11\, Wiesede\, 26446
END:VEVENT
BEGIN:VEVENT
DTSTART;TZID=Europe/Berlin:20261227T143000
DTEND;TZID=Europe/Berlin:20261227T163000
DTSTAMP:20260419T225502
CREATED:20260121T070629Z
LAST-MODIFIED:20260121T070629Z
UID:5297-1798381800-1798389000@dorfgemeinschaft-wiesede.de
SUMMARY:Waldweihnacht
DESCRIPTION:Infos folgen…
URL:https://dorfgemeinschaft-wiesede.de/event/waldweihnacht/
LOCATION:Wysder Holt\, Preefelder Weg\, Wiesede
END:VEVENT
BEGIN:VEVENT
DTSTART;TZID=Europe/Berlin:20270103T160000
DTEND;TZID=Europe/Berlin:20270103T190000
DTSTAMP:20260419T225502
CREATED:20260121T070522Z
LAST-MODIFIED:20260121T070522Z
UID:5295-1798992000-1799002800@dorfgemeinschaft-wiesede.de
SUMMARY:Neujahrsempfang
DESCRIPTION:Infos folgen…
URL:https://dorfgemeinschaft-wiesede.de/event/neujahrsempfang-3/
LOCATION:Kapelle in Wiesede\, Wieseder Dorfstraße 11\, Wiesede\, 26446
END:VEVENT
END:VCALENDAR