BEGIN:VCALENDAR
VERSION:2.0
PRODID:-//Dorfgemeinschaft Wiesede - Upschört - ECPv6.15.20//NONSGML v1.0//EN
CALSCALE:GREGORIAN
METHOD:PUBLISH
X-WR-CALNAME:Dorfgemeinschaft Wiesede - Upschört
X-ORIGINAL-URL:https://dorfgemeinschaft-wiesede.de
X-WR-CALDESC:Veranstaltungen für Dorfgemeinschaft Wiesede - Upschört
REFRESH-INTERVAL;VALUE=DURATION:PT1H
X-Robots-Tag:noindex
X-PUBLISHED-TTL:PT1H
BEGIN:VTIMEZONE
TZID:Europe/Berlin
BEGIN:DAYLIGHT
TZOFFSETFROM:+0100
TZOFFSETTO:+0200
TZNAME:CEST
DTSTART:20240331T010000
END:DAYLIGHT
BEGIN:STANDARD
TZOFFSETFROM:+0200
TZOFFSETTO:+0100
TZNAME:CET
DTSTART:20241027T010000
END:STANDARD
BEGIN:DAYLIGHT
TZOFFSETFROM:+0100
TZOFFSETTO:+0200
TZNAME:CEST
DTSTART:20250330T010000
END:DAYLIGHT
BEGIN:STANDARD
TZOFFSETFROM:+0200
TZOFFSETTO:+0100
TZNAME:CET
DTSTART:20251026T010000
END:STANDARD
BEGIN:DAYLIGHT
TZOFFSETFROM:+0100
TZOFFSETTO:+0200
TZNAME:CEST
DTSTART:20260329T010000
END:DAYLIGHT
BEGIN:STANDARD
TZOFFSETFROM:+0200
TZOFFSETTO:+0100
TZNAME:CET
DTSTART:20261025T010000
END:STANDARD
BEGIN:DAYLIGHT
TZOFFSETFROM:+0100
TZOFFSETTO:+0200
TZNAME:CEST
DTSTART:20270328T010000
END:DAYLIGHT
BEGIN:STANDARD
TZOFFSETFROM:+0200
TZOFFSETTO:+0100
TZNAME:CET
DTSTART:20271031T010000
END:STANDARD
END:VTIMEZONE
BEGIN:VEVENT
DTSTART;TZID=Europe/Berlin:20260320T153000
DTEND;TZID=Europe/Berlin:20260320T180000
DTSTAMP:20260419T225517
CREATED:20260218T194429Z
LAST-MODIFIED:20260218T194429Z
UID:5339-1774020600-1774029600@dorfgemeinschaft-wiesede.de
SUMMARY:Bastelaktion "Die Frühlingswerkstatt"
DESCRIPTION: 
URL:https://dorfgemeinschaft-wiesede.de/event/bastelaktion-die-fruehlingswerkstatt/
LOCATION:Multifunktionshaus Upschört\, Upschört
END:VEVENT
BEGIN:VEVENT
DTSTART;TZID=Europe/Berlin:20260317T200000
DTEND;TZID=Europe/Berlin:20260317T210000
DTSTAMP:20260419T225517
CREATED:20260107T082918Z
LAST-MODIFIED:20260107T082929Z
UID:5251-1773777600-1773781200@dorfgemeinschaft-wiesede.de
SUMMARY:Ideenaustausch & Vorstandssitzung
DESCRIPTION:Einmal im Monat trifft sich der Vorstand und bespricht aktuelle Themen und plant Veranstaltungen.\nDie Sitzungen sind öffentlich und Gäste sind immer herzlich willkommen!
URL:https://dorfgemeinschaft-wiesede.de/event/ideenaustausch-vorstandssitzung-2-2-2-2-2/
LOCATION:Kapelle in Wiesede\, Wieseder Dorfstraße 11\, Wiesede\, 26446
END:VEVENT
BEGIN:VEVENT
DTSTART;TZID=Europe/Berlin:20260314T100000
DTEND;TZID=Europe/Berlin:20260314T130000
DTSTAMP:20260419T225517
CREATED:20260209T100117Z
LAST-MODIFIED:20260209T100258Z
UID:5333-1773482400-1773493200@dorfgemeinschaft-wiesede.de
SUMMARY:Müllsammelaktion
DESCRIPTION:
URL:https://dorfgemeinschaft-wiesede.de/event/muellsammelaktion-2/
LOCATION:Feuerwehrhaus Wiesede\, Preefelder Weg 1\, Wiesede\, 26446
END:VEVENT
BEGIN:VEVENT
DTSTART;TZID=Europe/Berlin:20260307T110000
DTEND;TZID=Europe/Berlin:20260307T133000
DTSTAMP:20260419T225517
CREATED:20260121T065748Z
LAST-MODIFIED:20260128T075903Z
UID:5283-1772881200-1772890200@dorfgemeinschaft-wiesede.de
SUMMARY:Abgroggen und Angrillen
DESCRIPTION:
URL:https://dorfgemeinschaft-wiesede.de/event/abgroggen-und-angrillen-2/
LOCATION:Sportplatz Wiesede\, Preefelderweg\, Wiesede
END:VEVENT
BEGIN:VEVENT
DTSTART;TZID=Europe/Berlin:20260225T193000
DTEND;TZID=Europe/Berlin:20260225T220000
DTSTAMP:20260419T225517
CREATED:20260121T070919Z
LAST-MODIFIED:20260126T065446Z
UID:5299-1772047800-1772056800@dorfgemeinschaft-wiesede.de
SUMMARY:Jahreshauptversammlung 2026
DESCRIPTION: \n 
URL:https://dorfgemeinschaft-wiesede.de/event/jahreshauptversammlung-2026/
LOCATION:Gaststätte Bender\, Haarweg 3\, Upschört\, 26446
END:VEVENT
BEGIN:VEVENT
DTSTART;TZID=Europe/Berlin:20260217T200000
DTEND;TZID=Europe/Berlin:20260217T213000
DTSTAMP:20260419T225517
CREATED:20250112T102643Z
LAST-MODIFIED:20251121T093001Z
UID:4828-1771358400-1771363800@dorfgemeinschaft-wiesede.de
SUMMARY:Ideenaustausch & Vorstandssitzung
DESCRIPTION:Einmal im Monat trifft sich der Vorstand und bespricht aktuelle Themen und plant Veranstaltungen.\nDie Sitzungen sind öffentlich und Gäste sind immer herzlich willkommen!
URL:https://dorfgemeinschaft-wiesede.de/event/ideenaustausch-vorstandssitzung-2-2-2-2/
LOCATION:Kapelle in Wiesede\, Wieseder Dorfstraße 11\, Wiesede\, 26446
END:VEVENT
BEGIN:VEVENT
DTSTART;TZID=Europe/Berlin:20260120T200000
DTEND;TZID=Europe/Berlin:20260120T213000
DTSTAMP:20260419T225517
CREATED:20251121T092227Z
LAST-MODIFIED:20251121T092236Z
UID:5116-1768939200-1768944600@dorfgemeinschaft-wiesede.de
SUMMARY:Ideenaustausch & Vorstandssitzung
DESCRIPTION:Einmal im Monat trifft sich der Vorstand und bespricht aktuelle Themen und plant Veranstaltungen.\nDie Sitzungen sind öffentlich und Gäste sind immer herzlich willkommen!
URL:https://dorfgemeinschaft-wiesede.de/event/ideenaustausch-vorstandssitzung-2-2-3-2-2/
LOCATION:Kapelle in Wiesede\, Wieseder Dorfstraße 11\, Wiesede\, 26446
END:VEVENT
BEGIN:VEVENT
DTSTART;TZID=Europe/Berlin:20260107T200000
DTEND;TZID=Europe/Berlin:20260107T210000
DTSTAMP:20260419T225517
CREATED:20260107T083144Z
LAST-MODIFIED:20260107T083144Z
UID:5253-1767816000-1767819600@dorfgemeinschaft-wiesede.de
SUMMARY:Ideenaustausch & Vorstandssitzung
DESCRIPTION:Einmal im Monat trifft sich der Vorstand und bespricht aktuelle Themen und plant Veranstaltungen.\nDie Sitzungen sind öffentlich und Gäste sind immer herzlich willkommen!
URL:https://dorfgemeinschaft-wiesede.de/event/ideenaustausch-vorstandssitzung-2-2-2-2-4/
LOCATION:Kapelle in Wiesede\, Wieseder Dorfstraße 11\, Wiesede\, 26446
END:VEVENT
BEGIN:VEVENT
DTSTART;TZID=Europe/Berlin:20260104T160000
DTEND;TZID=Europe/Berlin:20260104T180000
DTSTAMP:20260419T225517
CREATED:20250122T154230Z
LAST-MODIFIED:20251103T141435Z
UID:4849-1767542400-1767549600@dorfgemeinschaft-wiesede.de
SUMMARY:Neujahrsempfang
DESCRIPTION:Mit einem Glas Sekt oder Orangensaft möchten wir mit euch auf das neue Jahr anstoßen. Für das leibliche Wohl ist gesorgt. Wir freuen uns auf eure Teilnahme.  \nAm Sonntag\, den 4. Januar 2026\, ab 16 Uhr in der Kapelle in Wiesede.
URL:https://dorfgemeinschaft-wiesede.de/event/neujahrsempfang-2/
LOCATION:Kapelle in Wiesede\, Wieseder Dorfstraße 11\, Wiesede\, 26446
END:VEVENT
BEGIN:VEVENT
DTSTART;TZID=Europe/Berlin:20251228T143000
DTEND;TZID=Europe/Berlin:20251228T163000
DTSTAMP:20260419T225517
CREATED:20251103T142024Z
LAST-MODIFIED:20251226T084143Z
UID:5082-1766932200-1766939400@dorfgemeinschaft-wiesede.de
SUMMARY:Waldweihnacht im Eichenwald
DESCRIPTION:
URL:https://dorfgemeinschaft-wiesede.de/event/waldweihnacht-im-eichenwald-2/
LOCATION:Wysder Holt\, Preefelder Weg\, Wiesede
END:VEVENT
BEGIN:VEVENT
DTSTART;TZID=Europe/Berlin:20251214T190000
DTEND;TZID=Europe/Berlin:20251214T220000
DTSTAMP:20260419T225517
CREATED:20251121T072840Z
LAST-MODIFIED:20251121T073048Z
UID:5108-1765738800-1765749600@dorfgemeinschaft-wiesede.de
SUMMARY:"Vier Takte vor Weihnachten" Konzert
DESCRIPTION:
URL:https://dorfgemeinschaft-wiesede.de/event/vier-takte-vor-weihnachten-konzert/
LOCATION:St.-Martinus-Kirche\, Etzel
END:VEVENT
BEGIN:VEVENT
DTSTART;TZID=Europe/Berlin:20251207T140000
DTEND;TZID=Europe/Berlin:20251207T180000
DTSTAMP:20260419T225517
CREATED:20250122T154132Z
LAST-MODIFIED:20251103T141110Z
UID:4847-1765116000-1765130400@dorfgemeinschaft-wiesede.de
SUMMARY:Adventsmarkt
DESCRIPTION:Screenshot
URL:https://dorfgemeinschaft-wiesede.de/event/adventsmarkt-2/
LOCATION:Schule Wiesede
END:VEVENT
BEGIN:VEVENT
DTSTART;TZID=Europe/Berlin:20251205T160000
DTEND;TZID=Europe/Berlin:20251205T180000
DTSTAMP:20260419T225517
CREATED:20251121T072513Z
LAST-MODIFIED:20251121T072513Z
UID:5102-1764950400-1764957600@dorfgemeinschaft-wiesede.de
SUMMARY:Weihnachtsbacken
DESCRIPTION:Screenshot
URL:https://dorfgemeinschaft-wiesede.de/event/weihnachtsbacken-2/
LOCATION:Multifunktionshaus Upschört\, Upschört
END:VEVENT
BEGIN:VEVENT
DTSTART;TZID=Europe/Berlin:20251204T160000
DTEND;TZID=Europe/Berlin:20251204T180000
DTSTAMP:20260419T225517
CREATED:20251121T072705Z
LAST-MODIFIED:20251121T072705Z
UID:5106-1764864000-1764871200@dorfgemeinschaft-wiesede.de
SUMMARY:Weihnachtsbacken
DESCRIPTION:Screenshot
URL:https://dorfgemeinschaft-wiesede.de/event/weihnachtsbacken-3/
LOCATION:Multifunktionshaus Upschört\, Upschört
END:VEVENT
BEGIN:VEVENT
DTSTART;TZID=Europe/Berlin:20251120T190000
DTEND;TZID=Europe/Berlin:20251120T230000
DTSTAMP:20260419T225517
CREATED:20251027T091351Z
LAST-MODIFIED:20251027T091351Z
UID:5073-1763665200-1763679600@dorfgemeinschaft-wiesede.de
SUMMARY:Adventsfeier
DESCRIPTION:Screenshot
URL:https://dorfgemeinschaft-wiesede.de/event/adventsfeier/
LOCATION:Gaststätte Bender\, Haarweg 3\, Upschört\, 26446
END:VEVENT
BEGIN:VEVENT
DTSTART;TZID=Europe/Berlin:20251118T200000
DTEND;TZID=Europe/Berlin:20251118T213000
DTSTAMP:20260419T225517
CREATED:20250112T102545Z
LAST-MODIFIED:20250112T102545Z
UID:4827-1763496000-1763501400@dorfgemeinschaft-wiesede.de
SUMMARY:Ideenaustausch & Vorstandssitzung
DESCRIPTION:Einmal im Monat trifft sich der Vorstand und bespricht aktuelle Themen und plant Veranstaltungen.\nDie Sitzungen sind öffentlich und Gäste sind immer herzlich willkommen!
URL:https://dorfgemeinschaft-wiesede.de/event/ideenaustausch-vorstandssitzung-2-2-3-2/
LOCATION:Kapelle in Wiesede\, Wieseder Dorfstraße 11\, Wiesede\, 26446
END:VEVENT
BEGIN:VEVENT
DTSTART;TZID=Europe/Berlin:20251107T173000
DTEND;TZID=Europe/Berlin:20251107T190000
DTSTAMP:20260419T225517
CREATED:20251016T111359Z
LAST-MODIFIED:20251016T111359Z
UID:5058-1762536600-1762542000@dorfgemeinschaft-wiesede.de
SUMMARY:Laternenumzug
DESCRIPTION:
URL:https://dorfgemeinschaft-wiesede.de/event/laternenumzug-2/
LOCATION:Feuerwehrhaus Wiesede\, Preefelder Weg 1\, Wiesede\, 26446
END:VEVENT
BEGIN:VEVENT
DTSTART;TZID=Europe/Berlin:20251021T200000
DTEND;TZID=Europe/Berlin:20251021T213000
DTSTAMP:20260419T225517
CREATED:20250112T102446Z
LAST-MODIFIED:20250112T102446Z
UID:4826-1761076800-1761082200@dorfgemeinschaft-wiesede.de
SUMMARY:Ideenaustausch & Vorstandssitzung
DESCRIPTION:Einmal im Monat trifft sich der Vorstand und bespricht aktuelle Themen und plant Veranstaltungen.\nDie Sitzungen sind öffentlich und Gäste sind immer herzlich willkommen!
URL:https://dorfgemeinschaft-wiesede.de/event/ideenaustausch-vorstandssitzung-2-2-4-4/
LOCATION:Kapelle in Wiesede\, Wieseder Dorfstraße 11\, Wiesede\, 26446
END:VEVENT
BEGIN:VEVENT
DTSTART;TZID=Europe/Berlin:20250916T200000
DTEND;TZID=Europe/Berlin:20250916T213000
DTSTAMP:20260419T225517
CREATED:20250112T102357Z
LAST-MODIFIED:20250112T102357Z
UID:4829-1758052800-1758058200@dorfgemeinschaft-wiesede.de
SUMMARY:Ideenaustausch & Vorstandssitzung
DESCRIPTION:Einmal im Monat trifft sich der Vorstand und bespricht aktuelle Themen und plant Veranstaltungen.\nDie Sitzungen sind öffentlich und Gäste sind immer herzlich willkommen!
URL:https://dorfgemeinschaft-wiesede.de/event/ideenaustausch-vorstandssitzung-2-2-5/
LOCATION:Kapelle in Wiesede\, Wieseder Dorfstraße 11\, Wiesede\, 26446
END:VEVENT
BEGIN:VEVENT
DTSTART;TZID=Europe/Berlin:20250830T160000
DTEND;TZID=Europe/Berlin:20250830T180000
DTSTAMP:20260419T225517
CREATED:20250122T154029Z
LAST-MODIFIED:20250801T071108Z
UID:4845-1756569600-1756576800@dorfgemeinschaft-wiesede.de
SUMMARY:Dorfpicknick und Baumscheibenaktion
DESCRIPTION: 
URL:https://dorfgemeinschaft-wiesede.de/event/dorfpicknick-und-preisverteilung-dorf-rallye/
LOCATION:Schule Wiesede
END:VEVENT
BEGIN:VEVENT
DTSTART;TZID=Europe/Berlin:20250822T180000
DTEND;TZID=Europe/Berlin:20250822T230000
DTSTAMP:20260419T225517
CREATED:20250122T153845Z
LAST-MODIFIED:20250624T154718Z
UID:4843-1755885600-1755903600@dorfgemeinschaft-wiesede.de
SUMMARY:Helferfest
DESCRIPTION:Einladung zum Helferfest 2025 \n  \nDie Dorfgemeinschaft Wiesede – Upschört e.V. möchte alle\, \ndie immer wieder helfen und sich um die Ortschaften verdient gemacht haben\,  \nzu einem gemütlichen Grillabend einladen. \n  \n   Treff ist am  \n22.08.2025 um 18:00 Uhr \nin Wiesede Heselerfelder Weg 23 \n bei Familie Friedrichs \n  \nAnmeldung bis zum 13.08.2025 \nbei Gesa Beneken 0162 6041004 oder 04948 992869 \nElke Hildebrandt 04948 912929 oder \nIngo Friedrichs 01573 1701658
URL:https://dorfgemeinschaft-wiesede.de/event/helferfest/
LOCATION:Wiesede
END:VEVENT
BEGIN:VEVENT
DTSTART;TZID=Europe/Berlin:20250812T200000
DTEND;TZID=Europe/Berlin:20250812T213000
DTSTAMP:20260419T225517
CREATED:20250112T102306Z
LAST-MODIFIED:20250617T192303Z
UID:4825-1755028800-1755034200@dorfgemeinschaft-wiesede.de
SUMMARY:Ideenaustausch & Vorstandssitzung
DESCRIPTION:Einmal im Monat trifft sich der Vorstand und bespricht aktuelle Themen und plant Veranstaltungen.\nDie Sitzungen sind öffentlich und Gäste sind immer herzlich willkommen!
URL:https://dorfgemeinschaft-wiesede.de/event/ideenaustausch-vorstandssitzung-2-2-4-3-2/
LOCATION:Kapelle in Wiesede\, Wieseder Dorfstraße 11\, Wiesede\, 26446
END:VEVENT
BEGIN:VEVENT
DTSTART;TZID=Europe/Berlin:20250617T200000
DTEND;TZID=Europe/Berlin:20250617T213000
DTSTAMP:20260419T225517
CREATED:20250112T101929Z
LAST-MODIFIED:20250112T101929Z
UID:4817-1750190400-1750195800@dorfgemeinschaft-wiesede.de
SUMMARY:Ideenaustausch & Vorstandssitzung
DESCRIPTION:Einmal im Monat trifft sich der Vorstand und bespricht aktuelle Themen und plant Veranstaltungen.\nDie Sitzungen sind öffentlich und Gäste sind immer herzlich willkommen!
URL:https://dorfgemeinschaft-wiesede.de/event/ideenaustausch-vorstandssitzung-2-2-4/
LOCATION:Kapelle in Wiesede\, Wieseder Dorfstraße 11\, Wiesede\, 26446
END:VEVENT
BEGIN:VEVENT
DTSTART;TZID=Europe/Berlin:20250609T100000
DTEND;TZID=Europe/Berlin:20250609T170000
DTSTAMP:20260419T225517
CREATED:20250122T153736Z
LAST-MODIFIED:20250602T150554Z
UID:4841-1749463200-1749488400@dorfgemeinschaft-wiesede.de
SUMMARY:Dorfflohmarkt
DESCRIPTION:Screenshot\n  \n  \n \n 
URL:https://dorfgemeinschaft-wiesede.de/event/dorfflohmarkt/
LOCATION:Wiesede
END:VEVENT
BEGIN:VEVENT
DTSTART;TZID=Europe/Berlin:20250520T200000
DTEND;TZID=Europe/Berlin:20250520T213000
DTSTAMP:20260419T225517
CREATED:20250112T101832Z
LAST-MODIFIED:20250112T101832Z
UID:4816-1747771200-1747776600@dorfgemeinschaft-wiesede.de
SUMMARY:Ideenaustausch & Vorstandssitzung
DESCRIPTION:Einmal im Monat trifft sich der Vorstand und bespricht aktuelle Themen und plant Veranstaltungen.\nDie Sitzungen sind öffentlich und Gäste sind immer herzlich willkommen!
URL:https://dorfgemeinschaft-wiesede.de/event/ideenaustausch-vorstandssitzung-2-2-3/
LOCATION:Kapelle in Wiesede\, Wieseder Dorfstraße 11\, Wiesede\, 26446
END:VEVENT
BEGIN:VEVENT
DTSTART;TZID=Europe/Berlin:20250415T200000
DTEND;TZID=Europe/Berlin:20250415T213000
DTSTAMP:20260419T225517
CREATED:20250112T101731Z
LAST-MODIFIED:20250418T073611Z
UID:4815-1744747200-1744752600@dorfgemeinschaft-wiesede.de
SUMMARY:Ideenaustausch & Vorstandssitzung
DESCRIPTION:Einmal im Monat trifft sich der Vorstand und bespricht aktuelle Themen und plant Veranstaltungen.\nDie Sitzungen sind öffentlich und Gäste sind immer herzlich willkommen!
URL:https://dorfgemeinschaft-wiesede.de/event/ideenaustausch-vorstandssitzung-2-2-2/
LOCATION:Kapelle in Wiesede\, Wieseder Dorfstraße 11\, Wiesede\, 26446
END:VEVENT
BEGIN:VEVENT
DTSTART;TZID=Europe/Berlin:20250321T143000
DTEND;TZID=Europe/Berlin:20250321T170000
DTSTAMP:20260419T225517
CREATED:20230816T103330Z
LAST-MODIFIED:20250303T125744Z
UID:3830-1742567400-1742576400@dorfgemeinschaft-wiesede.de
SUMMARY:Osterbacken für Kinder
DESCRIPTION:Backen zu Ostern mit den Kindern\nOrt: Multifunktionshaus in Upschört\nLeitung Dorfgemeinschaft Wiesede- Upschört e.V.\n\nAm 21.03.2025 und/oder am 28.03.25 wird wieder mit den Kindern gebacken. \nFür die Kinder von 5 – 12 Jahren findet das Backen von 14:30 Uhr bis 17:00 Uhr statt. \nUnkostenbeitrag 6 €\n\nAnmeldung bei Helga Pasemann Tel: 04948 – 99 28 53
URL:https://dorfgemeinschaft-wiesede.de/event/osterbacken-fuer-kinder/
LOCATION:Multifunktionshaus Upschört\, Upschört
END:VEVENT
BEGIN:VEVENT
DTSTART;TZID=Europe/Berlin:20250315T100000
DTEND;TZID=Europe/Berlin:20250315T130000
DTSTAMP:20260419T225517
CREATED:20250122T153639Z
LAST-MODIFIED:20250220T080253Z
UID:4839-1742032800-1742043600@dorfgemeinschaft-wiesede.de
SUMMARY:Müllsammelaktion
DESCRIPTION:
URL:https://dorfgemeinschaft-wiesede.de/event/muellsammelaktion/
LOCATION:Feuerwehrhaus Wiesede\, Preefelder Weg 1\, Wiesede\, 26446
END:VEVENT
BEGIN:VEVENT
DTSTART;TZID=Europe/Berlin:20250312T193000
DTEND;TZID=Europe/Berlin:20250312T220000
DTSTAMP:20260419T225517
CREATED:20250124T085936Z
LAST-MODIFIED:20250124T091926Z
UID:4851-1741807800-1741816800@dorfgemeinschaft-wiesede.de
SUMMARY:Jahreshauptversammlung 2025
DESCRIPTION:Liebe Mitglieder und Freunde der Dorfgemeinschaft \nhiermit möchte ich dich/ euch zur Jahreshauptversammlung der Dorfgemeinschaft Wiesede – Upschört e.V. am 12.03.2025 um 19:30 Uhr in der Gaststätte Bender in Upschört recht herzlich einladen.  Auch Gäste sind herzlich willkommen. \n\nTop 1   Begrüßung\nTop 2   Feststellung der Tagesordnung\nTop 3   Feststellung der ordnungsgemäßen Ladung und Beschlussfähigkeit\nTop 4   Genehmigung des Protokolls der 36. Jahreshauptversammlung am 15.02.2024 bei Bender\nTop 5   Berichte\n\n            5.1. des Vorsitzenden \n            5.2. der Kassenführerin \n            5.3. der Kassenprüfer \n\nTop 6    Abstimmungen- Erhöhung des Mitgliedsbeitrages (Der Vorstand schlägt eine        Erhöhung der Jahresbeiträge für Einzelmitglieder von 13€ auf 17 € und für Familien von 18€ auf 25 € vor).\nTop 7   Aussprache (Wünsche\, Anregungen\, Kritik)\nTop 8   Entlastung des Vorstandes\nTop 9   Wahlen zum Vorstand\nTop 10 Wahlen der Kassenprüfer (in)\nTop 11 Jahresberichte über die Werner Stiftung\nTop 12 Ehrungen\nTop 13 Verschiedenes\nMit freundlichen Grüßen \nDie Dorfgemeinschaft Wiesede-Upschört e. V. \nDer Vorstand
URL:https://dorfgemeinschaft-wiesede.de/event/jahreshauptversammlung-2025/
LOCATION:Gaststätte Bender\, Haarweg 3\, Upschört\, 26446
END:VEVENT
BEGIN:VEVENT
DTSTART;TZID=Europe/Berlin:20250218T200000
DTEND;TZID=Europe/Berlin:20250218T213000
DTSTAMP:20260419T225517
CREATED:20250112T101227Z
LAST-MODIFIED:20250112T101235Z
UID:4805-1739908800-1739914200@dorfgemeinschaft-wiesede.de
SUMMARY:Ideenaustausch & Vorstandssitzung
DESCRIPTION:Einmal im Monat trifft sich der Vorstand und bespricht aktuelle Themen und plant Veranstaltungen.\nDie Sitzungen sind öffentlich und Gäste sind immer herzlich willkommen!
URL:https://dorfgemeinschaft-wiesede.de/event/ideenaustausch-vorstandssitzung-2/
LOCATION:Kapelle in Wiesede\, Wieseder Dorfstraße 11\, Wiesede\, 26446
END:VEVENT
END:VCALENDAR