BEGIN:VCALENDAR
VERSION:2.0
PRODID:-//Dorfgemeinschaft Wiesede - Upschört - ECPv6.15.20//NONSGML v1.0//EN
CALSCALE:GREGORIAN
METHOD:PUBLISH
X-ORIGINAL-URL:https://dorfgemeinschaft-wiesede.de
X-WR-CALDESC:Veranstaltungen für Dorfgemeinschaft Wiesede - Upschört
REFRESH-INTERVAL;VALUE=DURATION:PT1H
X-Robots-Tag:noindex
X-PUBLISHED-TTL:PT1H
BEGIN:VTIMEZONE
TZID:Europe/Berlin
BEGIN:DAYLIGHT
TZOFFSETFROM:+0100
TZOFFSETTO:+0200
TZNAME:CEST
DTSTART:20230326T010000
END:DAYLIGHT
BEGIN:STANDARD
TZOFFSETFROM:+0200
TZOFFSETTO:+0100
TZNAME:CET
DTSTART:20231029T010000
END:STANDARD
BEGIN:DAYLIGHT
TZOFFSETFROM:+0100
TZOFFSETTO:+0200
TZNAME:CEST
DTSTART:20240331T010000
END:DAYLIGHT
BEGIN:STANDARD
TZOFFSETFROM:+0200
TZOFFSETTO:+0100
TZNAME:CET
DTSTART:20241027T010000
END:STANDARD
BEGIN:DAYLIGHT
TZOFFSETFROM:+0100
TZOFFSETTO:+0200
TZNAME:CEST
DTSTART:20250330T010000
END:DAYLIGHT
BEGIN:STANDARD
TZOFFSETFROM:+0200
TZOFFSETTO:+0100
TZNAME:CET
DTSTART:20251026T010000
END:STANDARD
END:VTIMEZONE
BEGIN:VEVENT
DTSTART;TZID=Europe/Berlin:20240701T080000
DTEND;TZID=Europe/Berlin:20240728T170000
DTSTAMP:20260421T103527
CREATED:20240704T155717Z
LAST-MODIFIED:20240704T155717Z
UID:4410-1719820800-1722186000@dorfgemeinschaft-wiesede.de
SUMMARY:Rallye
DESCRIPTION:Moin liebe Eltern\, liebe Kinder!\nWir haben eine kleine Rallye ausgearbeitet durch unsere schönen Dörfer Wiesede und Upschört.\nLust auf eine Radtour\, vielleicht mit Picknick? Ihr habt bis zum 28. Juli Zeit eure ausgefüllten Zettel bei Elke Hildebrandt\, Am Buschhof 3\, abzugeben. \nWir wünschen Euch viel Spass!
URL:https://dorfgemeinschaft-wiesede.de/event/rallye/
LOCATION:Wiesede
END:VEVENT
BEGIN:VEVENT
DTSTART;TZID=Europe/Berlin:20240705T200000
DTEND;TZID=Europe/Berlin:20240707T180000
DTSTAMP:20260421T103527
CREATED:20230517T142400Z
LAST-MODIFIED:20240612T065018Z
UID:3229-1720209600-1720375200@dorfgemeinschaft-wiesede.de
SUMMARY:Schützenfest in Wiesede
DESCRIPTION:Der Schützenverein Wiesede läd zum Schützenfest ein. \nVom 5. –  7.7.2023 auf der Festwiese am Auricherweg.\nWeitere Infos unter Schützenverein Wiesede
URL:https://dorfgemeinschaft-wiesede.de/event/schuetzenfest-in-wiesede/
LOCATION:Wiesede
END:VEVENT
END:VCALENDAR