BEGIN:VCALENDAR
VERSION:2.0
PRODID:-//Dorfgemeinschaft Wiesede - Upschört - ECPv6.15.20//NONSGML v1.0//EN
CALSCALE:GREGORIAN
METHOD:PUBLISH
X-ORIGINAL-URL:https://dorfgemeinschaft-wiesede.de
X-WR-CALDESC:Veranstaltungen für Dorfgemeinschaft Wiesede - Upschört
REFRESH-INTERVAL;VALUE=DURATION:PT1H
X-Robots-Tag:noindex
X-PUBLISHED-TTL:PT1H
BEGIN:VTIMEZONE
TZID:Europe/Berlin
BEGIN:DAYLIGHT
TZOFFSETFROM:+0100
TZOFFSETTO:+0200
TZNAME:CEST
DTSTART:20230326T010000
END:DAYLIGHT
BEGIN:STANDARD
TZOFFSETFROM:+0200
TZOFFSETTO:+0100
TZNAME:CET
DTSTART:20231029T010000
END:STANDARD
BEGIN:DAYLIGHT
TZOFFSETFROM:+0100
TZOFFSETTO:+0200
TZNAME:CEST
DTSTART:20240331T010000
END:DAYLIGHT
BEGIN:STANDARD
TZOFFSETFROM:+0200
TZOFFSETTO:+0100
TZNAME:CET
DTSTART:20241027T010000
END:STANDARD
BEGIN:DAYLIGHT
TZOFFSETFROM:+0100
TZOFFSETTO:+0200
TZNAME:CEST
DTSTART:20250330T010000
END:DAYLIGHT
BEGIN:STANDARD
TZOFFSETFROM:+0200
TZOFFSETTO:+0100
TZNAME:CET
DTSTART:20251026T010000
END:STANDARD
END:VTIMEZONE
BEGIN:VEVENT
DTSTART;TZID=Europe/Berlin:20240316T093000
DTEND;TZID=Europe/Berlin:20240316T160000
DTSTAMP:20260425T160454
CREATED:20240307T071234Z
LAST-MODIFIED:20240307T071234Z
UID:4376-1710581400-1710604800@dorfgemeinschaft-wiesede.de
SUMMARY:Osterbacken
DESCRIPTION:Osterbacken für Kinder am 16. März 2024 im Multifunktionshaus in Upschört  \nvon 9.30 -12 Uhr für Kinder im Alter von 5-8 Jahren und \nvon 13.30 -16 Uhr für Kinder im Alter von 9-12 Jahren. \nUnkostenbeitrag für eine Dose Kekse 8€ \nAnmeldungen bei Helga Pasemann 04948/ 992853
URL:https://dorfgemeinschaft-wiesede.de/event/osterbacken/
LOCATION:Multifunktionshaus Upschört\, Upschört
END:VEVENT
END:VCALENDAR