BEGIN:VCALENDAR
VERSION:2.0
PRODID:-//Dorfgemeinschaft Wiesede - Upschört - ECPv6.15.20//NONSGML v1.0//EN
CALSCALE:GREGORIAN
METHOD:PUBLISH
X-WR-CALNAME:Dorfgemeinschaft Wiesede - Upschört
X-ORIGINAL-URL:https://dorfgemeinschaft-wiesede.de
X-WR-CALDESC:Veranstaltungen für Dorfgemeinschaft Wiesede - Upschört
REFRESH-INTERVAL;VALUE=DURATION:PT1H
X-Robots-Tag:noindex
X-PUBLISHED-TTL:PT1H
BEGIN:VTIMEZONE
TZID:Europe/Berlin
BEGIN:DAYLIGHT
TZOFFSETFROM:+0100
TZOFFSETTO:+0200
TZNAME:CEST
DTSTART:20220327T010000
END:DAYLIGHT
BEGIN:STANDARD
TZOFFSETFROM:+0200
TZOFFSETTO:+0100
TZNAME:CET
DTSTART:20221030T010000
END:STANDARD
BEGIN:DAYLIGHT
TZOFFSETFROM:+0100
TZOFFSETTO:+0200
TZNAME:CEST
DTSTART:20230326T010000
END:DAYLIGHT
BEGIN:STANDARD
TZOFFSETFROM:+0200
TZOFFSETTO:+0100
TZNAME:CET
DTSTART:20231029T010000
END:STANDARD
BEGIN:DAYLIGHT
TZOFFSETFROM:+0100
TZOFFSETTO:+0200
TZNAME:CEST
DTSTART:20240331T010000
END:DAYLIGHT
BEGIN:STANDARD
TZOFFSETFROM:+0200
TZOFFSETTO:+0100
TZNAME:CET
DTSTART:20241027T010000
END:STANDARD
END:VTIMEZONE
BEGIN:VEVENT
DTSTART;TZID=Europe/Berlin:20231104T093000
DTEND;TZID=Europe/Berlin:20231104T163000
DTSTAMP:20260425T230613
CREATED:20231010T122356Z
LAST-MODIFIED:20231010T122356Z
UID:4016-1699090200-1699115400@dorfgemeinschaft-wiesede.de
SUMMARY:Kinder-Aktions-Tag
DESCRIPTION:
URL:https://dorfgemeinschaft-wiesede.de/event/kinder-aktions-tag/
LOCATION:Turnhalle Schule Wiesede
END:VEVENT
END:VCALENDAR