BEGIN:VCALENDAR
VERSION:2.0
PRODID:-//Dorfgemeinschaft Wiesede - Upschört - ECPv6.15.20//NONSGML v1.0//EN
CALSCALE:GREGORIAN
METHOD:PUBLISH
X-WR-CALNAME:Dorfgemeinschaft Wiesede - Upschört
X-ORIGINAL-URL:https://dorfgemeinschaft-wiesede.de
X-WR-CALDESC:Veranstaltungen für Dorfgemeinschaft Wiesede - Upschört
REFRESH-INTERVAL;VALUE=DURATION:PT1H
X-Robots-Tag:noindex
X-PUBLISHED-TTL:PT1H
BEGIN:VTIMEZONE
TZID:Europe/Berlin
BEGIN:DAYLIGHT
TZOFFSETFROM:+0100
TZOFFSETTO:+0200
TZNAME:CEST
DTSTART:20220327T010000
END:DAYLIGHT
BEGIN:STANDARD
TZOFFSETFROM:+0200
TZOFFSETTO:+0100
TZNAME:CET
DTSTART:20221030T010000
END:STANDARD
BEGIN:DAYLIGHT
TZOFFSETFROM:+0100
TZOFFSETTO:+0200
TZNAME:CEST
DTSTART:20230326T010000
END:DAYLIGHT
BEGIN:STANDARD
TZOFFSETFROM:+0200
TZOFFSETTO:+0100
TZNAME:CET
DTSTART:20231029T010000
END:STANDARD
BEGIN:DAYLIGHT
TZOFFSETFROM:+0100
TZOFFSETTO:+0200
TZNAME:CEST
DTSTART:20240331T010000
END:DAYLIGHT
BEGIN:STANDARD
TZOFFSETFROM:+0200
TZOFFSETTO:+0100
TZNAME:CET
DTSTART:20241027T010000
END:STANDARD
END:VTIMEZONE
BEGIN:VEVENT
DTSTART;TZID=Europe/Berlin:20231009T200000
DTEND;TZID=Europe/Berlin:20231009T220000
DTSTAMP:20260426T021117
CREATED:20231008T185543Z
LAST-MODIFIED:20231008T190348Z
UID:4012-1696881600-1696888800@dorfgemeinschaft-wiesede.de
SUMMARY:Adventsmarkt Planung
DESCRIPTION:Liebe Mitstreiter. \nIm Namen der Dorfgemeinschaft Wiesede-Upschört e.V. möchte ich Dich/Euch zu einem Gespräch am 9.10.2023 um 20:00 Uhr in der Kapelle in Wiesede einladen. \nWieder einmal möchten wir mit Euch zusammen das Vorgehen für den Adventsmarkt am zweiten Adventssonntag besprechen und in die Planungsphase gehen. \nNatürlich freuen wir uns auch wieder auf viele Beteiligte\, die einen eigenen Stand aufbauen möchten. \nAlle Interessierten sind herzlich willkommen. \nÜber Eure Teilnahme würde ich mich freuen! \nViele Grüße Ingo Friedrichs
URL:https://dorfgemeinschaft-wiesede.de/event/adventsmarkt-planung/
LOCATION:Kapelle in Wiesede\, Wieseder Dorfstraße 11\, Wiesede\, 26446
END:VEVENT
END:VCALENDAR